BEGIN:VCALENDAR
VERSION:2.0
PRODID:-//Library Market//iCal Export//EN
BEGIN:VEVENT
SUMMARY:LL Alliance Book Sale
UID:33343
DTSTAMP:20260421T015900Z
DTSTART:20260516T140000Z
DTEND:20260516T200000Z
LOCATION:Lincoln Library, 326 S. 7th St., Springfield, IL 62701, United St
 ates
ROOM: Carnegie North
DESCRIPTION:Book Sale
URL:https://www.lincolnlibrary.info/event/ll-alliance-book-sale-33343
END:VEVENT
END:VCALENDAR
