BEGIN:VCALENDAR
VERSION:2.0
PRODID:-//Library Market//iCal Export//EN
BEGIN:VEVENT
SUMMARY:AI 101
UID:34216
DTSTAMP:20260424T153700Z
DTSTART:20260520T223000Z
DTEND:20260521T000000Z
LOCATION:Lincoln Library, 326 S. 7th St., Springfield, IL 62701, United St
 ates
ROOM: Carnegie North
DESCRIPTION:Come learn about AI 101: The Good, The Bad, The Binaryâ€”a fas
 t, clear introduction to how artificial intelligence shapes our world. Weâ
 €™ll explore its benefits, its pitfalls, and the digital logic that powers
  it all. Whether youâ€™re curious, cautious, or just getting started, this
  session will give you the grounding you need to navigate AI with confiden
 ce and curiosityWe are going to be showing 2024 Duetche Welle Documentary 
 &quot;Will artificial intelligence save us or kill us?&quot; and than havi
 ng a discussion afterwards for those wishing to. The Documentary is a deba
 te between a CEO of a cybernetics company that utilizes AI and an AI Safet
 y Researcher at Stanford UniversityThese event is apart of series of infor
 mative sessions about AI on the positive and negative aspects as well as l
 imitations with this new and rapidly advancing technology.Â While each eve
 nt may have a specific focus there is no requirement to attend any precedi
 ng event.
URL:https://www.lincolnlibrary.info/event/ai-series-place-holder-34216
END:VEVENT
END:VCALENDAR
