BEGIN:VCALENDAR
VERSION:2.0
PRODID:-//Library Market//iCal Export//EN
BEGIN:VEVENT
SUMMARY:Yoga Beginners to Advanced
UID:35375
DTSTAMP:20260424T165200Z
DTSTART:20260504T233000Z
DTEND:20260505T003000Z
LOCATION:Lincoln Library, 326 S. 7th St., Springfield, IL 62701, United St
 ates
ROOM: Carnegie North
DESCRIPTION:Everyone ages 13 and up is welcome in this community yoga clas
 s. We will focus on breathing, stretching and honoring our bodies. Just br
 ing a mat and comfy clothes! 
URL:https://www.lincolnlibrary.info/event/yoga-beginners-advanced-35375
END:VEVENT
END:VCALENDAR
