BEGIN:VCALENDAR
VERSION:2.0
PRODID:-//Library Market//iCal Export//EN
BEGIN:VEVENT
SUMMARY:Capitol City Comics
UID:35388
DTSTAMP:20260419T123700Z
DTSTART:20260422T230000Z
DTEND:20260423T004500Z
LOCATION:Lincoln Library, 326 S. 7th St., Springfield, IL 62701, United St
 ates
ROOM: DeFrates Room
DESCRIPTION:Meeting
URL:https://www.lincolnlibrary.info/event/capitol-city-comics-35388
END:VEVENT
END:VCALENDAR
