BEGIN:VCALENDAR
VERSION:2.0
PRODID:-//Library Market//iCal Export//EN
BEGIN:VEVENT
SUMMARY:Men&#039;s Conference
UID:35403
DTSTAMP:20260420T225800Z
DTSTART:20260429T220000Z
DTEND:20260430T004500Z
LOCATION:Lincoln Library, 326 S. 7th St., Springfield, IL 62701, United St
 ates
ROOM: Bicentennial Room
DESCRIPTION:Discussion to form a coalition
URL:https://www.lincolnlibrary.info/event/mens-conference-35403
END:VEVENT
END:VCALENDAR
