BEGIN:VCALENDAR
VERSION:2.0
PRODID:-//Library Market//iCal Export//EN
BEGIN:VEVENT
SUMMARY:Meeting
UID:35406
DTSTAMP:20260420T172200Z
DTSTART:20260422T194500Z
DTEND:20260422T204500Z
LOCATION:Lincoln Library, 326 S. 7th St., Springfield, IL 62701, United St
 ates
ROOM: Study Room 1
DESCRIPTION:
URL:https://www.lincolnlibrary.info/event/meeting-35406
END:VEVENT
END:VCALENDAR
