BEGIN:VCALENDAR
VERSION:2.0
PRODID:-//Library Market//iCal Export//EN
BEGIN:VEVENT
SUMMARY:Maryna Meshcherska Students&#039; Piano Recital
UID:35454
DTSTAMP:20260421T091500Z
DTSTART:20260620T200000Z
DTEND:20260620T214500Z
LOCATION:Lincoln Library, 326 S. 7th St., Springfield, IL 62701, United St
 ates
ROOM: Carnegie North
DESCRIPTION:Recital
URL:https://www.lincolnlibrary.info/event/maryna-meshcherska-students-pian
 o-recital-35454
END:VEVENT
END:VCALENDAR
