BEGIN:VCALENDAR
VERSION:2.0
PRODID:-//Library Market//iCal Export//EN
BEGIN:VEVENT
SUMMARY:EAP Grief Counseling
UID:35525
DTSTAMP:20260421T233700Z
DTSTART:20260422T140000Z
DTEND:20260422T150000Z
LOCATION:Lincoln Library, 326 S. 7th St., Springfield, IL 62701, United St
 ates
ROOM: Carnegie North
DESCRIPTION:Grief Counseling
URL:https://www.lincolnlibrary.info/event/eap-grief-counseling-35525
END:VEVENT
END:VCALENDAR
