BEGIN:VCALENDAR
VERSION:2.0
PRODID:-//Library Market//iCal Export//EN
BEGIN:VEVENT
SUMMARY:Community Coffee Talk: Know Your Rights, Know Your Neighbors
UID:35527
DTSTAMP:20260422T010600Z
DTSTART:20260520T173000Z
DTEND:20260520T203000Z
LOCATION:Lincoln Library, 326 S. 7th St., Springfield, IL 62701, United St
 ates
ROOM: Carnegie North
DESCRIPTION:Gathering of community and government organizations to educate
  and inform the public and give community members the opportunity to conne
 ct with the Department of Human Rights and The Phoenix Center and other or
 ganizations. We plan to have coffee and cookies and host an open house sty
 le gathering for people to get information and have conversation about LGB
 TQ+ rights and issues.
URL:https://www.lincolnlibrary.info/event/community-coffee-talk-know-your-
 rights-know-your-neighbors-35527
END:VEVENT
END:VCALENDAR
