BEGIN:VCALENDAR
VERSION:2.0
PRODID:-//Library Market//iCal Export//EN
BEGIN:VEVENT
SUMMARY:Sangamon County Data Center Planning Meeting
UID:35528
DTSTAMP:20260426T005300Z
DTSTART:20260601T230000Z
DTEND:20260602T003000Z
LOCATION:Lincoln Library, 326 S. 7th St., Springfield, IL 62701, United St
 ates
ROOM: Carnegie North
DESCRIPTION:open meeting to discuss data center strategies and updates on 
 CyrusOne project
URL:https://www.lincolnlibrary.info/event/sangamon-county-data-center-plan
 ning-meeting-35528
END:VEVENT
END:VCALENDAR
