BEGIN:VCALENDAR
VERSION:2.0
PRODID:-//Library Market//iCal Export//EN
BEGIN:VEVENT
SUMMARY:Work time
UID:35531
DTSTAMP:20260421T233700Z
DTSTART:20260421T194500Z
DTEND:20260421T210000Z
LOCATION:Lincoln Library, 326 S. 7th St., Springfield, IL 62701, United St
 ates
ROOM: Study Room 2
DESCRIPTION:
URL:https://www.lincolnlibrary.info/event/work-time-35531
END:VEVENT
END:VCALENDAR
