BEGIN:VCALENDAR
VERSION:2.0
PRODID:-//Library Market//iCal Export//EN
BEGIN:VEVENT
SUMMARY:Book Discussion
UID:35567
DTSTAMP:20260426T022600Z
DTSTART:20260516T150000Z
DTEND:20260516T170000Z
LOCATION:Lincoln Library, 326 S. 7th St., Springfield, IL 62701, United St
 ates
ROOM: DeFrates Room
DESCRIPTION:Book Discussion
URL:https://www.lincolnlibrary.info/event/book-discussion-35567
END:VEVENT
END:VCALENDAR
