BEGIN:VCALENDAR
VERSION:2.0
PRODID:-//Library Market//iCal Export//EN
BEGIN:VEVENT
SUMMARY:Trauma Informed Care Training
UID:35570
DTSTAMP:20260426T022600Z
DTSTART:20260915T200000Z
DTEND:20260915T220000Z
LOCATION:Lincoln Library, 326 S. 7th St., Springfield, IL 62701, United St
 ates
ROOM: Multipurpose Room
DESCRIPTION:Memorial Health is offering free trauma-informed care training
  to everyone in our community. Trauma-informed care (TIC) shifts the focus
  from “What’s wrong with you?” to “What happened to you?” and th
 en to “What’s strong with you?” This approach acknowledges that many
  individuals carry the effects of past trauma, which can shape their exper
 iences and interactions. TIC is grounded in understanding and responsivene
 ss to the impact of trauma, emphasizing physical, psychological, and emoti
 onal safety for both providers and survivors.
URL:https://www.lincolnlibrary.info/event/trauma-informed-care-training-35
 570
END:VEVENT
END:VCALENDAR
