BEGIN:VCALENDAR
VERSION:2.0
PRODID:-//Library Market//iCal Export//EN
BEGIN:VEVENT
SUMMARY:Mobile Branch at Hy-Vee
UID:35574
DTSTAMP:20260424T211900Z
DTSTART:20260425T190000Z
DTEND:20260425T194500Z
LOCATION:Hy-Vee, 2115 S. MacArthur Blvd, Springfield, IL 62704, United Sta
 tes
ROOM: Mobile Branch at Hy-Vee
DESCRIPTION:Lincoln Library’s Mobile Branch is a bookmobile that brings 
 books, digital resources, internet access, and programs directly to the co
 mmunity. A scaled-down version of our main collection, the bookmobile vis
 its all 10 city wards, making library services accessible to everyone. Ful
 ly handicap accessible, this library on wheels helps Springfield residents
  discover all that Lincoln Library has to offer. Please note that the boo
 kmobile schedule is subject to change due to weather, traffic, or mechanic
 al issues.
URL:https://www.lincolnlibrary.info/event/mobile-branch-hy-vee-35574
END:VEVENT
END:VCALENDAR
